Workbook
Name Sınıf_Veri_Giriş_Ekranı: 'SINIF - VERİ GİRİŞ EKRANI'!$A$4:$AB$43

Sheet ÖNSÖZ
A1: LGS PUAN HESAPLAMA 2020, VERİ ANALİZİ , DASHBOARD ÇALIŞMASI
A2: Öncelikle Bu Dosyayı İndiren Herkese Merhabalar Adım Berat Koyuncu , Kpss Teknik Kurucusuyum.Bu Çalışma LGS öğrencilerine özel hazırlanmıştır, bu çalışma ile ilgili tüm yorumlarınızı bekliyorum. Bu çalışma Versiyon 01 olarak tanımlanmıştır. Sizlerin yoruma göre değişikleri yapılacaktır. Aşağıda yer alan açıklamalara dikkat ediniz !
A7: [ ] Kurum Ortalama Analiz Sekmesinde Sadece En üst Bölümde Yer Alan Tabloyu Doldurmanız Yeterlidir. Aşağıdaki Grafikler Otomatik Olarak Değişecektir. ( Kırtasiye Aracılığı/ Kurum Optik Okuyucuları Tarafından Verilen Ortalamaları Yazmanıza Yarayan Kısımdır)
A10: [ ] SINIF-VERİ GİRİŞ EKRANI VE SINIF VERİ ANALİZİ Sekmesi Birbirleriyle Bağlantılıdır. Veri Girişi Sadece " Sınıf - Veri Giriş Ekranı " Kullanılacaktır.
A13: [ ] SINIF-VERİ GİRİŞ EKRANI , " Tablo 01 " Yer Alan Bilgilerde Sarı Renk'de Yer Alan Kısımlara Dokunmayınız Formül Yer Almaktadır. Tablo 01 Yer Alan Veriler Sadece 1 Deneme Üzerinden Analiz Gerçekleştirebilir. Sınıf - Veri Analiz Sekmesinde Yer Alan Grafikler Tablo 01'den Veri Çekmektedir.Grafikler Öğrenci Numarasına Göre Sıralama Olmuştur, İsimine Göre Yapılmamıştır.
A16: [ ] SINIF-VERİ GİRİŞ EKRANI , " Tablo 02 " Yer Alan Bilgilerde Öğrenci Okul Numarası, İsimsoyisim Olarak Veri Girişi Yapınız ve Hangi Denemelerden Kaç Doğru Yada Kaç Puan Aldığını Tabloya İşleyin. Sizlere Tavsiyem Doğru Sayıları Yazın Daha Mantıklı Geldi Bana :) Sınıf Veri Analiz Sekmesinde Yer Alan En İyi Sonuç Çizelgesi O Kısımdan Veri Çekmektedir. ( Sizleri Yorumları Önemli Bunun İçin Geliştirilecektir.)
A19: [ ] Kişi - Veri Analizi , Kişi Veri Giriş Ekranı , Kişi - Puan Hesaplama Analizi Sekmesi Tamamen Kişisel Hesaplamalar İçin Hazırlanmıştır. Bu Hesaplamalar 2020 LGS MEB Analiz Klavuzundan Veriler Alınmıştır. Kesin Sonuç Değildir. Hesaplama'da En Düşük ve En Yüksek Ders Not Ortalaması Bilinmemektedir. Hesaplama 500 Puana Denk Gelecek Şekilde En Yüksek/Düşük Ortalama Verilmiştir. KESİN SONUÇ DEĞİLDİR. TAHMİN ÜZERİNE TAHMİNDİR. BİR SONRAKİ AÇIKLAMA DİKKAT
A22: [ ] Tabiikide Öğrencilerimiz Puanım Kaç Gelecektir Merakı Vardır ve Puan Hesaplaması Yapan Sitelere Giriş Yaparak Puan Hesaplaması Yapmaktadır. İnanın Ki Kaç Siteye Girerseniz Girin Hepsi Farklı Sonuç Verecektir. Çünkü Hepsinin Ortalamayı Farklı Alıyor. Sizlere Tavsiyem " Kişi - Veri Giriş Ekranı " Sekmesinde Yer Alan Tabloyu Takip Edin En Azından Hangi Denemede Kaç Doğru Yaptım , Kaç Net Yaptım Onu Takıp Edin. PUAN HESAPLAMAYIN ! (Sadece Abi Tavsiyesi)
A25: [ ] Kişi-Veri Analizi ve Kişi - Puan Hesaplama Analiz Sekmesinde Hiçbir Şekilde Veri Girmiyorsunuz Kişi - Veri Giriş Ekranından Otomatik Olarak Almaktadır. Kişi-Veri Alanizi İncelediğinizde Detaylı Bilgiye Sahip Olabilirsiniz. Güzel Bir Çalışma Yaptık İnşallah O Kısımları Beğenirsiniz.
A28: [ ] Sekmeler Yer Alan #Değer! , #Sekme! Gibi Yazılar Görebilirsiniz. Bazılarını Kaldıramadık Onlar Hata Değildir. Veri Girilmediğinden Dolayı Veri Çekemediğinden Kaynaklıdır. Veri Girildiğinde Tamamen Kalkacaktır.
A31: [ ] Bu Çalışmam İçin Yorumlarınızı Aşağıdaki Bağlantılardan Ulaşabilirsiniz. Mutlaka Bizlere Yazın Bu Çalışmamızı Geliştirmek Adına
A34: [ ] Versiyon 02 Çalışmamız Deneme Yapmış Öğretmenlerimiz İçin Optik Okuyucu Olmayan Okullarımız İçin Bizler Çalışma Yapacağız Öğrenci İsimlerini Doğru/Yanlış Sayılarını Yazarak LGS Formatında Hazırlanmış Şekilde Sunacağız . Çünkü En Küçük ve En Yüksek Not Ortalamasını Bilindiğinden Dolayı Hesaplama Kolay Olacaktır.
A37: Bu Çalışma LGS PUAN HESAPLAMA 2020, VERİ ANALİZİ , DASHBOARD ÇALIŞMASI Versiyon 01 Adlandırılmıştır. 21.11.2020
A41: WP: | B41: https://wa.me/message/VNP6AOJNPJBUD1
A42: Telegram Kanalımız | B42: https://t.me/kpssteknikcom
A43: Kişisel Hesabım | B43: https://t.me/beratisg
A44: İnstagram Adreslerimiz : @kpssteknik ve @berat.kync

Sheet KURUM ORTALAMA ANALİZİ
B1: KURUM ORTALAMASI DERS BAZINDA
A2: NO | B2: TÜRKÇE | C2: İNKİLAP | D2: DİN KÜLTÜRÜ | E2: YABANCI DİL | F2: MATEMATİK | G2: FEN BİLGİSİ
A3: DENEME 01 | B3: 6 | C3: 5 | F3: 5 | G3: 3
A4: DENEME 02 | B4: 7 | C4: 5 | D4: 5 | F4: 8 | G4: 3
A5: DENEME 03 | B5: 8 | C5: 5 | D5: 4 | F5: 5 | G5: 3
A6: DENEME 04 | B6: 9 | C6: 5 | E6: 4 | F6: 5 | G6: 3 | J6: Bu Çalışma Berat Koyuncu Tarafından Hazırlanmıştır.
A7: DENEME 05 | B7: 10 | C7: 5 | E7: 7 | F7: 5 | G7: 3
A8: DENEME 06 | B8: 11 | F8: 5 | G8: 3
A9: DENEME 07 | B9: 12 | F9: 5 | G9: 8
A10: DENEME 08 | B10: 13 | F10: 5 | G10: 3
A11: DENEME 09 | B11: 14 | F11: 5 | G11: 3
A12: DENEME 10 | B12: 15 | F12: 5 | G12: 3

Sheet SINIF - VERİ ANALİZİ
B2: 10 DENEME'DE EN İYİ SONUÇ YAPAN
B7: =LARGE('SINIF - VERİ GİRİŞ EKRANI'!$AS$5:$AS$43,1) -> 70 | C7: =LARGE('SINIF - VERİ GİRİŞ EKRANI'!$AS$5:$AS$43,2) -> 55 | D7: =LARGE('SINIF - VERİ GİRİŞ EKRANI'!$AS$5:$AS$43,3) -> 10
B8: =INDEX('SINIF - VERİ GİRİŞ EKRANI'!$AG$5:$AG$42,MATCH('SINIF - VERİ ANALİZİ'!B7,'SINIF - VERİ GİRİŞ EKRANI'!AS5:AS42,0)) -> BERAT ONURALP ESER | C8: =INDEX('SINIF - VERİ GİRİŞ EKRANI'!$AG$5:$AG$42,MATCH('SINIF - VERİ ANALİZİ'!C7,'SINIF - VERİ GİRİŞ EKRANI'!AS5:AS42,0)) -> AHMET KARAYAVUZ | D8: =INDEX('SINIF - VERİ GİRİŞ EKRANI'!$AG$5:$AG$42,MATCH('SINIF - VERİ ANALİZİ'!D7,'SINIF - VERİ GİRİŞ EKRANI'!AS5:AS42,0)) -> AÇELYA CANATAR

Sheet SINIF - VERİ GİRİŞ EKRANI
A1: TABLO 01 : BU GRAFİK SADECE 1 TANE DENEME SONUÇLARINA GÖRE YAPILACAKTIR. SARI RENKDE BULUNAN YERLERDE OYNAMA YAPMAYIN ! SADECE DERSLERİN DOĞRU VE YANLIŞ YERLERİ DOLDURUN ! | AE1: TABLO 02 BU BÖLÜM SİZE AYRILMIŞTIR DENEME SONUÇ PUANINI YADA TOPLAM DOĞRU SAYILARINI YAZABİLİRSİNİZ.
F3: Türkçe | I3: İnkılap Tarihi | L3: Din Kültürü | O3: Yabancı Dil | R3: Matematik | U3: Fen Bili leri | X3: Topla
A4: S.No | B4: Öğr. No | C4: Ad Soyad | D4: Sınıf | E4: Kt | F4: D1 | G4: Y1 | H4: NET1 | I4: D2 | J4: Y2 | K4: NET2 | L4: D3 | M4: Y3 | N4: NET3 | O4: D4 | P4: Y4 | Q4: NET4 | R4: D5 | S4: Y5 | T4: NET5 | U4: D6 | V4: Y6 | W4: NET6 | X4: D7 | Y4: Y7 | Z4: NET7 | AA4: LGS | AB4: Gnl.S | AE4: S.No | AF4: Öğr. No | AG4: Ad Soyad | AH4: Sınıf | AI4: DENEME 01 | AJ4: DENEME 02 | AK4: DENEME 03 | AL4: DENEME 04 | AM4: DENEME 05 | AN4: DENEME 06 | AO4: DENEME 07 | AP4: DENEME 08 | AQ4: DENEME 09 | AR4: DENEME 10 | AS4: TOPLAM
A5: 1 | B5: 568 | C5: SAMET ÇETİNKAYA | D5: 8A | E5: B | F5: 19 | G5: 1 | H5: =IF(F5<>"",F5-(G5/3),"") -> 18.666667 | I5: 6 | J5: 4 | K5: =IF(I5<>"",I5-(J5/3),"") -> 4.6666667 | L5: 10 | M5: 0 | N5: =IF(L5<>"",L5-(M5/3),"") -> 10 | O5: 10 | P5: 0 | Q5: =IF(O5<>"",O5-(P5/3),"") -> 10 | R5: 15 | S5: 1 | T5: =IF(R5<>"",R5-(S5/3),"") -> 14.666667 | U5: 16 | V5: 2 | W5: =IF(U5<>"",U5-(V5/3),"") -> 15.333333 | X5: =SUM('SINIF - VERİ GİRİŞ EKRANI'!$F5,'SINIF - VERİ GİRİŞ EKRANI'!$I5,'SINIF - VERİ GİRİŞ EKRANI'!$L5,'SINIF - VERİ GİRİŞ EKRANI'!$O5,'SINIF - VERİ GİRİŞ EKRANI'!$R5,'SINIF - VERİ GİRİŞ EKRANI'!$U5) -> 76 | Y5: =SUM('SINIF - VERİ GİRİŞ EKRANI'!$G5,'SINIF - VERİ GİRİŞ EKRANI'!$J5,'SINIF - VERİ GİRİŞ EKRANI'!$M5,'SINIF - VERİ GİRİŞ EKRANI'!$P5,'SINIF - VERİ GİRİŞ EKRANI'!$S5,V5) -> 8 | Z5: =IF(X5<>"",X5-(Y5/3),"") -> 73.333333 | AA5: 424.2 | AB5: 1 | AE5: 1. | AF5: 128 | AG5: AÇELYA CANATAR | AH5: 8A | AI5: 5 | AJ5: 5 | AS5: =SUM(AI5:AR5) -> 10
A6: 2 | B6: 425 | C6: SUDENAZ KILIÇ | D6: 8A | E6: A | F6: 17 | G6: 3 | H6: =IF(F6<>"",F6-(G6/3),"") -> 16 | I6: 8 | J6: 2 | K6: =IF(I6<>"",I6-(J6/3),"") -> 7.3333333 | L6: 10 | M6: 0 | N6: =IF(L6<>"",L6-(M6/3),"") -> 10 | O6: 10 | P6: 0 | Q6: =IF(O6<>"",O6-(P6/3),"") -> 10 | R6: 15 | S6: 5 | T6: =IF(R6<>"",R6-(S6/3),"") -> 13.333333 | U6: 16 | V6: 4 | W6: =IF(U6<>"",U6-(V6/3),"") -> 14.666667 | X6: =SUM('SINIF - VERİ GİRİŞ EKRANI'!$F6,'SINIF - VERİ GİRİŞ EKRANI'!$I6,'SINIF - VERİ GİRİŞ EKRANI'!$L6,'SINIF - VERİ GİRİŞ EKRANI'!$O6,'SINIF - VERİ GİRİŞ EKRANI'!$R6,'SINIF - VERİ GİRİŞ EKRANI'!$U6) -> 76 | Y6: 14 | Z6: =IF(X6<>"",X6-(Y6/3),"") -> 71.333333 | AA6: 415.71 | AB6: 2 | AE6: 2. | AF6: 188 | AG6: AHMET KARAYAVUZ | AH6: 8B | AI6: 55 | AS6: =SUM(AI6:AR6) -> 55
A7: 3 | B7: 473 | C7: İREM ERYÜREKLİ | D7: 8A | E7: B | F7: 19 | G7: 1 | H7: =IF(F7<>"",F7-(G7/3),"") -> 18.666667 | I7: 8 | J7: 2 | K7: =IF(I7<>"",I7-(J7/3),"") -> 7.3333333 | L7: 9 | M7: 1 | N7: =IF(L7<>"",L7-(M7/3),"") -> 8.6666667 | O7: 8 | P7: 1 | Q7: =IF(O7<>"",O7-(P7/3),"") -> 7.6666667 | R7: 10 | S7: 6 | T7: =IF(R7<>"",R7-(S7/3),"") -> 8 | U7: 12 | V7: 1 | W7: =IF(U7<>"",U7-(V7/3),"") -> 11.666667 | X7: =SUM('SINIF - VERİ GİRİŞ EKRANI'!$F7,'SINIF - VERİ GİRİŞ EKRANI'!$I7,'SINIF - VERİ GİRİŞ EKRANI'!$L7,'SINIF - VERİ GİRİŞ EKRANI'!$O7,'SINIF - VERİ GİRİŞ EKRANI'!$R7,'SINIF - VERİ GİRİŞ EKRANI'!$U7) -> 66 | Y7: 12 | Z7: =IF(X7<>"",X7-(Y7/3),"") -> 62 | AA7: 371.84 | AB7: 3 | AE7: 3. | AF7: 25 | AG7: ARAS ALTAY | AH7: 8A | AI7: 5 | AS7: =SUM(AI7:AR7) -> 5
A8: 4 | B8: 467 | C8: EFE NECATİ AKASLAN | D8: 8A | E8: B | F8: 17 | G8: 3 | H8: =IF(F8<>"",F8-(G8/3),"") -> 16 | I8: 8 | J8: 2 | K8: =IF(I8<>"",I8-(J8/3),"") -> 7.3333333 | L8: 10 | M8: 0 | N8: =IF(L8<>"",L8-(M8/3),"") -> 10 | O8: 7 | P8: 3 | Q8: =IF(O8<>"",O8-(P8/3),"") -> 6 | R8: 13 | S8: 7 | T8: =IF(R8<>"",R8-(S8/3),"") -> 10.666667 | U8: 11 | V8: 7 | W8: =IF(U8<>"",U8-(V8/3),"") -> 8.6666667 | X8: =SUM('SINIF - VERİ GİRİŞ EKRANI'!$F8,'SINIF - VERİ GİRİŞ EKRANI'!$I8,'SINIF - VERİ GİRİŞ EKRANI'!$L8,'SINIF - VERİ GİRİŞ EKRANI'!$O8,'SINIF - VERİ GİRİŞ EKRANI'!$R8,'SINIF - VERİ GİRİŞ EKRANI'!$U8) -> 66 | Y8: 22 | Z8: =IF(X8<>"",X8-(Y8/3),"") -> 58.666667 | AA8: 357.25 | AB8: 4 | AE8: 4. | AF8: 370 | AG8: ARDA ENES TEMEL | AH8: 8B | AI8: 5 | AS8: =SUM(AI8:AR8) -> 5
A9: 5 | B9: 12 | C9: EFE ALTAY | D9: 8A | E9: A | F9: 16 | G9: 2 | H9: =IF(F9<>"",F9-(G9/3),"") -> 15.333333 | I9: 6 | J9: 2 | K9: =IF(I9<>"",I9-(J9/3),"") -> 5.3333333 | L9: 10 | M9: 0 | N9: =IF(L9<>"",L9-(M9/3),"") -> 10 | O9: 5 | P9: 1 | Q9: =IF(O9<>"",O9-(P9/3),"") -> 4.6666667 | R9: 7 | S9: 3 | T9: =IF(R9<>"",R9-(S9/3),"") -> 6 | U9: 17 | V9: 1 | W9: =IF(U9<>"",U9-(V9/3),"") -> 16.666667 | X9: =SUM('SINIF - VERİ GİRİŞ EKRANI'!$F9,'SINIF - VERİ GİRİŞ EKRANI'!$I9,'SINIF - VERİ GİRİŞ EKRANI'!$L9,'SINIF - VERİ GİRİŞ EKRANI'!$O9,'SINIF - VERİ GİRİŞ EKRANI'!$R9,'SINIF - VERİ GİRİŞ EKRANI'!$U9) -> 61 | Y9: 9 | Z9: =IF(X9<>"",X9-(Y9/3),"") -> 58 | AA9: 351.9 | AB9: 5 | AE9: 5. | AF9: 369 | AG9: AYŞE GÜNTÜRK | AH9: 8A | AI9: 5 | AS9: =SUM(AI9:AR9) -> 5
A10: 6 | B10: 246 | C10: YAĞMUR EKİNCİ | D10: 8A | E10: A | F10: 15 | G10: 5 | H10: =IF(F10<>"",F10-(G10/3),"") -> 13.333333 | I10: 7 | J10: 3 | K10: =IF(I10<>"",I10-(J10/3),"") -> 6 | L10: 9 | M10: 1 | N10: =IF(L10<>"",L10-(M10/3),"") -> 8.6666667 | O10: 8 | P10: 1 | Q10: =IF(O10<>"",O10-(P10/3),"") -> 7.6666667 | R10: 10 | S10: 7 | T10: =IF(R10<>"",R10-(S10/3),"") -> 7.6666667 | U10: 15 | V10: 4 | W10: =IF(U10<>"",U10-(V10/3),"") -> 13.666667 | X10: =SUM('SINIF - VERİ GİRİŞ EKRANI'!$F10,'SINIF - VERİ GİRİŞ EKRANI'!$I10,'SINIF - VERİ GİRİŞ EKRANI'!$L10,'SINIF - VERİ GİRİŞ EKRANI'!$O10,'SINIF - VERİ GİRİŞ EKRANI'!$R10,'SINIF - VERİ GİRİŞ EKRANI'!$U10) -> 64 | Y10: 21 | Z10: =IF(X10<>"",X10-(Y10/3),"") -> 57 | AA10: 350.55 | AB10: 6 | AE10: 6. | AF10: 38 | AG10: BAHADIR ANIT | AH10: 8A | AI10: 5 | AS10: =SUM(AI10:AR10) -> 5
A11: 7 | B11: 1 | C11: DİLŞAD ERGÖRÜN | D11: 8A | E11: B | F11: 19 | G11: 1 | H11: =IF(F11<>"",F11-(G11/3),"") -> 18.666667 | I11: 7 | J11: 3 | K11: =IF(I11<>"",I11-(J11/3),"") -> 6 | L11: 9 | M11: 1 | N11: =IF(L11<>"",L11-(M11/3),"") -> 8.6666667 | O11: 9 | P11: 1 | Q11: =IF(O11<>"",O11-(P11/3),"") -> 8.6666667 | R11: 4 | S11: 4 | T11: =IF(R11<>"",R11-(S11/3),"") -> 2.6666667 | U11: 12 | V11: 6 | W11: =IF(U11<>"",U11-(V11/3),"") -> 10 | X11: =SUM('SINIF - VERİ GİRİŞ EKRANI'!$F11,'SINIF - VERİ GİRİŞ EKRANI'!$I11,'SINIF - VERİ GİRİŞ EKRANI'!$L11,'SINIF - VERİ GİRİŞ EKRANI'!$O11,'SINIF - VERİ GİRİŞ EKRANI'!$R11,'SINIF - VERİ GİRİŞ EKRANI'!$U11) -> 60 | Y11: 16 | Z11: =IF(X11<>"",X11-(Y11/3),"") -> 54.666667 | AA11: 337.78 | AB11: 7 | AE11: 7. | AF11: 79 | AG11: BATIN BERK İZGİ | AH11: 8A | AI11: 5 | AS11: =SUM(AI11:AR11) -> 5
A12: 8 | B12: 128 | C12: AÇELYA CANATAR | D12: 8A | E12: A | F12: 15 | G12: 5 | H12: =IF(F12<>"",F12-(G12/3),"") -> 13.333333 | I12: 4 | J12: 5 | K12: =IF(I12<>"",I12-(J12/3),"") -> 2.3333333 | L12: 10 | M12: 0 | N12: =IF(L12<>"",L12-(M12/3),"") -> 10 | O12: 9 | P12: 0 | Q12: =IF(O12<>"",O12-(P12/3),"") -> 9 | R12: 6 | S12: 6 | T12: =IF(R12<>"",R12-(S12/3),"") -> 4 | U12: 12 | V12: 4 | W12: =IF(U12<>"",U12-(V12/3),"") -> 10.666667 | X12: =SUM('SINIF - VERİ GİRİŞ EKRANI'!$F12,'SINIF - VERİ GİRİŞ EKRANI'!$I12,'SINIF - VERİ GİRİŞ EKRANI'!$L12,'SINIF - VERİ GİRİŞ EKRANI'!$O12,'SINIF - VERİ GİRİŞ EKRANI'!$R12,'SINIF - VERİ GİRİŞ EKRANI'!$U12) -> 56 | Y12: 20 | Z12: =IF(X12<>"",X12-(Y12/3),"") -> 49.333333 | AA12: 314.79 | AB12: 8 | AE12: 8. | AF12: 365 | AG12: BERAT ONURALP ESER | AH12: 8A | AI12: 70 | AS12: =SUM(AI12:AR12) -> 70
A13: 9 | B13: 365 | C13: BERAT ONURALP ESER | D13: 8A | E13: A | F13: 14 | G13: 5 | H13: =IF(F13<>"",F13-(G13/3),"") -> 12.333333 | I13: 7 | J13: 3 | K13: =IF(I13<>"",I13-(J13/3),"") -> 6 | L13: 10 | M13: 0 | N13: =IF(L13<>"",L13-(M13/3),"") -> 10 | O13: 3 | P13: 6 | Q13: =IF(O13<>"",O13-(P13/3),"") -> 1 | R13: 9 | S13: 5 | T13: =IF(R13<>"",R13-(S13/3),"") -> 7.3333333 | U13: 14 | V13: 5 | W13: =IF(U13<>"",U13-(V13/3),"") -> 12.333333 | X13: =SUM('SINIF - VERİ GİRİŞ EKRANI'!$F13,'SINIF - VERİ GİRİŞ EKRANI'!$I13,'SINIF - VERİ GİRİŞ EKRANI'!$L13,'SINIF - VERİ GİRİŞ EKRANI'!$O13,'SINIF - VERİ GİRİŞ EKRANI'!$R13,'SINIF - VERİ GİRİŞ EKRANI'!$U13) -> 57 | Y13: 24 | Z13: =IF(X13<>"",X13-(Y13/3),"") -> 49 | AA13: 311.89 | AB13: 9 | AE13: 9. | AF13: 803 | AG13: BEREN AKIL | AH13: 8C | AI13: 5 | AS13: =SUM(AI13:AR13) -> 5
A14: 10 | B14: 369 | C14: AYŞE GÜNTÜRK | D14: 8A | E14: A | F14: 13 | G14: 7 | H14: =IF(F14<>"",F14-(G14/3),"") -> 10.666667 | I14: 8 | J14: 2 | K14: =IF(I14<>"",I14-(J14/3),"") -> 7.3333333 | L14: 8 | M14: 2 | N14: =IF(L14<>"",L14-(M14/3),"") -> 7.3333333 | O14: 7 | P14: 2 | Q14: =IF(O14<>"",O14-(P14/3),"") -> 6.3333333 | R14: 8 | S14: 10 | T14: =IF(R14<>"",R14-(S14/3),"") -> 4.6666667 | U14: 12 | V14: 5 | W14: =IF(U14<>"",U14-(V14/3),"") -> 10.333333 | X14: =SUM('SINIF - VERİ GİRİŞ EKRANI'!$F14,'SINIF - VERİ GİRİŞ EKRANI'!$I14,'SINIF - VERİ GİRİŞ EKRANI'!$L14,'SINIF - VERİ GİRİŞ EKRANI'!$O14,'SINIF - VERİ GİRİŞ EKRANI'!$R14,'SINIF - VERİ GİRİŞ EKRANI'!$U14) -> 56 | Y14: 28 | Z14: =IF(X14<>"",X14-(Y14/3),"") -> 46.666667 | AA14: 304.75 | AB14: 10 | AE14: 10. | AF14: 35 | AG14: BERKAY ATEŞ | AH14: 8A | AI14: 5 | AS14: =SUM(AI14:AR14) -> 5
A15: 11 | B15: 318 | C15: DİLE ULUN | D15: 8A | E15: B | F15: 14 | G15: 5 | H15: =IF(F15<>"",F15-(G15/3),"") -> 12.333333 | I15: 5 | J15: 5 | K15: =IF(I15<>"",I15-(J15/3),"") -> 3.3333333 | L15: 10 | M15: 0 | N15: =IF(L15<>"",L15-(M15/3),"") -> 10 | O15: 8 | P15: 1 | Q15: =IF(O15<>"",O15-(P15/3),"") -> 7.6666667 | R15: 9 | S15: 11 | T15: =IF(R15<>"",R15-(S15/3),"") -> 5.3333333 | U15: 10 | V15: 6 | W15: =IF(U15<>"",U15-(V15/3),"") -> 8 | X15: =SUM('SINIF - VERİ GİRİŞ EKRANI'!$F15,'SINIF - VERİ GİRİŞ EKRANI'!$I15,'SINIF - VERİ GİRİŞ EKRANI'!$L15,'SINIF - VERİ GİRİŞ EKRANI'!$O15,'SINIF - VERİ GİRİŞ EKRANI'!$R15,'SINIF - VERİ GİRİŞ EKRANI'!$U15) -> 56 | Y15: 28 | Z15: =IF(X15<>"",X15-(Y15/3),"") -> 46.666667 | AA15: 303.3 | AB15: 11 | AE15: 11. | AF15: 109 | AG15: BEYZA DEMİRKIRAN | AH15: 8A | AI15: 5 | AS15: =SUM(AI15:AR15) -> 5
A16: 12 | B16: 9 | C16: HAYRUNNİSA COŞKUN | D16: 8A | E16: A | F16: 12 | G16: 5 | H16: =IF(F16<>"",F16-(G16/3),"") -> 10.333333 | I16: 8 | J16: 2 | K16: =IF(I16<>"",I16-(J16/3),"") -> 7.3333333 | L16: 8 | M16: 2 | N16: =IF(L16<>"",L16-(M16/3),"") -> 7.3333333 | O16: 6 | P16: 3 | Q16: =IF(O16<>"",O16-(P16/3),"") -> 5 | R16: 4 | S16: 4 | T16: =IF(R16<>"",R16-(S16/3),"") -> 2.6666667 | U16: 14 | V16: 5 | W16: =IF(U16<>"",U16-(V16/3),"") -> 12.333333 | X16: =SUM('SINIF - VERİ GİRİŞ EKRANI'!$F16,'SINIF - VERİ GİRİŞ EKRANI'!$I16,'SINIF - VERİ GİRİŞ EKRANI'!$L16,'SINIF - VERİ GİRİŞ EKRANI'!$O16,'SINIF - VERİ GİRİŞ EKRANI'!$R16,'SINIF - VERİ GİRİŞ EKRANI'!$U16) -> 52 | Y16: 21 | Z16: =IF(X16<>"",X16-(Y16/3),"") -> 45 | AA16: 296.17 | AB16: 12 | AE16: 12. | AF16: 8546 | AG16: DENİZ ÇELİK | AH16: 8A | AS16: =SUM(AI16:AR16) -> 0
A17: 13 | B17: 121 | C17: HAT CE DÖNEN | D17: 8A | E17: B | F17: 10 | G17: 7 | H17: =IF(F17<>"",F17-(G17/3),"") -> 7.6666667 | I17: 7 | J17: 3 | K17: =IF(I17<>"",I17-(J17/3),"") -> 6 | L17: 9 | M17: 1 | N17: =IF(L17<>"",L17-(M17/3),"") -> 8.6666667 | O17: 7 | P17: 0 | Q17: =IF(O17<>"",O17-(P17/3),"") -> 7 | R17: 5 | S17: 8 | T17: =IF(R17<>"",R17-(S17/3),"") -> 2.3333333 | U17: 9 | V17: 9 | W17: =IF(U17<>"",U17-(V17/3),"") -> 6 | X17: =SUM('SINIF - VERİ GİRİŞ EKRANI'!$F17,'SINIF - VERİ GİRİŞ EKRANI'!$I17,'SINIF - VERİ GİRİŞ EKRANI'!$L17,'SINIF - VERİ GİRİŞ EKRANI'!$O17,'SINIF - VERİ GİRİŞ EKRANI'!$R17,'SINIF - VERİ GİRİŞ EKRANI'!$U17) -> 47 | Y17: 28 | Z17: =IF(X17<>"",X17-(Y17/3),"") -> 37.666667 | AA17: 264.19 | AB17: 13 | AE17: 13. | AF17: 318 | AG17: DİLE ULUN | AH17: 8A | AS17: =SUM(AI17:AR17) -> 0
A18: 14 | B18: 109 | C18: BEYZA DEMİRKIRAN | D18: 8A | E18: B | F18: 12 | G18: 7 | H18: =IF(F18<>"",F18-(G18/3),"") -> 9.6666667 | I18: 6 | J18: 3 | K18: =IF(I18<>"",I18-(J18/3),"") -> 5 | L18: 5 | M18: 5 | N18: =IF(L18<>"",L18-(M18/3),"") -> 3.3333333 | O18: 8 | P18: 2 | Q18: =IF(O18<>"",O18-(P18/3),"") -> 7.3333333 | R18: 5 | S18: 6 | T18: =IF(R18<>"",R18-(S18/3),"") -> 3 | U18: 10 | V18: 8 | W18: =IF(U18<>"",U18-(V18/3),"") -> 7.3333333 | X18: =SUM('SINIF - VERİ GİRİŞ EKRANI'!$F18,'SINIF - VERİ GİRİŞ EKRANI'!$I18,'SINIF - VERİ GİRİŞ EKRANI'!$L18,'SINIF - VERİ GİRİŞ EKRANI'!$O18,'SINIF - VERİ GİRİŞ EKRANI'!$R18,'SINIF - VERİ GİRİŞ EKRANI'!$U18) -> 46 | Y18: 31 | Z18: =IF(X18<>"",X18-(Y18/3),"") -> 35.666667 | AA18: 258.19 | AB18: 14 | AE18: 14. | AF18: 1 | AG18: DİLŞAD ERGÖRÜN | AH18: 8A | AS18: =SUM(AI18:AR18) -> 0
A19: 15 | B19: 35 | C19: BERKAY ATEŞ | D19: 8A | E19: B | F19: 12 | G19: 5 | H19: =IF(F19<>"",F19-(G19/3),"") -> 10.333333 | I19: 9 | J19: 1 | K19: =IF(I19<>"",I19-(J19/3),"") -> 8.6666667 | L19: 8 | M19: 2 | N19: =IF(L19<>"",L19-(M19/3),"") -> 7.3333333 | O19: 1 | P19: 3 | Q19: =IF(O19<>"",O19-(P19/3),"") -> 0 | R19: 10 | S19: 6 | T19: =IF(R19<>"",R19-(S19/3),"") -> 8 | U19: 5 | V19: 10 | W19: =IF(U19<>"",U19-(V19/3),"") -> 1.6666667 | X19: =SUM('SINIF - VERİ GİRİŞ EKRANI'!$F19,'SINIF - VERİ GİRİŞ EKRANI'!$I19,'SINIF - VERİ GİRİŞ EKRANI'!$L19,'SINIF - VERİ GİRİŞ EKRANI'!$O19,'SINIF - VERİ GİRİŞ EKRANI'!$R19,'SINIF - VERİ GİRİŞ EKRANI'!$U19) -> 45 | Y19: 27 | Z19: =IF(X19<>"",X19-(Y19/3),"") -> 36 | AA19: 256.62 | AB19: 15 | AE19: 15. | AF19: 12 | AG19: EFE ALTAY | AH19: 8A | AS19: =SUM(AI19:AR19) -> 0
A20: 16 | B20: 25 | C20: ARAS ALTAY | D20: 8A | E20: B | F20: 13 | G20: 6 | H20: =IF(F20<>"",F20-(G20/3),"") -> 11 | I20: 6 | J20: 4 | K20: =IF(I20<>"",I20-(J20/3),"") -> 4.6666667 | L20: 9 | M20: 1 | N20: =IF(L20<>"",L20-(M20/3),"") -> 8.6666667 | O20: 1 | P20: 1 | Q20: =IF(O20<>"",O20-(P20/3),"") -> 0.66666667 | R20: 2 | S20: 5 | T20: =IF(R20<>"",R20-(S20/3),"") -> 0.33333333 | U20: 13 | V20: 6 | W20: =IF(U20<>"",U20-(V20/3),"") -> 11 | X20: =SUM('SINIF - VERİ GİRİŞ EKRANI'!$F20,'SINIF - VERİ GİRİŞ EKRANI'!$I20,'SINIF - VERİ GİRİŞ EKRANI'!$L20,'SINIF - VERİ GİRİŞ EKRANI'!$O20,'SINIF - VERİ GİRİŞ EKRANI'!$R20,'SINIF - VERİ GİRİŞ EKRANI'!$U20) -> 44 | Y20: 23 | Z20: =IF(X20<>"",X20-(Y20/3),"") -> 36.333333 | AA20: 254.14 | AB20: 16 | AE20: 16. | AF20: 467 | AG20: EFE NECATİ AKASLAN | AH20: 8A | AS20: =SUM(AI20:AR20) -> 0
A21: 17 | B21: 8546 | C21: DENİZ ÇELİK | D21: 8A | E21: A | F21: 13 | G21: 6 | H21: =IF(F21<>"",F21-(G21/3),"") -> 11 | I21: 2 | J21: 8 | K21: =IF(I21<>"",I21-(J21/3),"") -> -0.66666667 | L21: 10 | M21: 0 | N21: =IF(L21<>"",L21-(M21/3),"") -> 10 | O21: 7 | P21: 3 | Q21: =IF(O21<>"",O21-(P21/3),"") -> 6 | R21: 4 | S21: 5 | T21: =IF(R21<>"",R21-(S21/3),"") -> 2.3333333 | U21: 9 | V21: 9 | W21: =IF(U21<>"",U21-(V21/3),"") -> 6 | X21: =SUM('SINIF - VERİ GİRİŞ EKRANI'!$F21,'SINIF - VERİ GİRİŞ EKRANI'!$I21,'SINIF - VERİ GİRİŞ EKRANI'!$L21,'SINIF - VERİ GİRİŞ EKRANI'!$O21,'SINIF - VERİ GİRİŞ EKRANI'!$R21,'SINIF - VERİ GİRİŞ EKRANI'!$U21) -> 45 | Y21: 31 | Z21: =IF(X21<>"",X21-(Y21/3),"") -> 34.666667 | AA21: 248.4 | AB21: 17 | AE21: 17. | AF21: 212 | AG21: ELA DEMİREL | AH21: 8C | AS21: =SUM(AI21:AR21) -> 0
A22: 18 | B22: 374 | C22: RABİA KATIK | D22: 8A | E22: B | F22: 11 | G22: 7 | H22: =IF(F22<>"",F22-(G22/3),"") -> 8.6666667 | I22: 4 | J22: 4 | K22: =IF(I22<>"",I22-(J22/3),"") -> 2.6666667 | L22: 10 | M22: 0 | N22: =IF(L22<>"",L22-(M22/3),"") -> 10 | O22: 5 | P22: 4 | Q22: =IF(O22<>"",O22-(P22/3),"") -> 3.6666667 | R22: 6 | S22: 8 | T22: =IF(R22<>"",R22-(S22/3),"") -> 3.3333333 | U22: 7 | V22: 6 | W22: =IF(U22<>"",U22-(V22/3),"") -> 5 | X22: =SUM('SINIF - VERİ GİRİŞ EKRANI'!$F22,'SINIF - VERİ GİRİŞ EKRANI'!$I22,'SINIF - VERİ GİRİŞ EKRANI'!$L22,'SINIF - VERİ GİRİŞ EKRANI'!$O22,'SINIF - VERİ GİRİŞ EKRANI'!$R22,'SINIF - VERİ GİRİŞ EKRANI'!$U22) -> 43 | Y22: 29 | Z22: =IF(X22<>"",X22-(Y22/3),"") -> 33.333333 | AA22: 242.78 | AB22: 18 | AE22: 18. | AF22: 234 | AG22: EMRE HAMAŞOĞLU | AH22: 8A | AS22: =SUM(AI22:AR22) -> 0
A23: 19 | B23: 152 | C23: İREM NAZLI ERYILMA | D23: 8C | E23: B | F23: 13 | G23: 7 | H23: =IF(F23<>"",F23-(G23/3),"") -> 10.666667 | I23: 3 | J23: 7 | K23: =IF(I23<>"",I23-(J23/3),"") -> 0.66666667 | L23: 9 | M23: 1 | N23: =IF(L23<>"",L23-(M23/3),"") -> 8.6666667 | O23: 6 | P23: 4 | Q23: =IF(O23<>"",O23-(P23/3),"") -> 4.6666667 | R23: 4 | S23: 7 | T23: =IF(R23<>"",R23-(S23/3),"") -> 1.6666667 | U23: 10 | V23: 10 | W23: =IF(U23<>"",U23-(V23/3),"") -> 6.6666667 | X23: =SUM('SINIF - VERİ GİRİŞ EKRANI'!$F23,'SINIF - VERİ GİRİŞ EKRANI'!$I23,'SINIF - VERİ GİRİŞ EKRANI'!$L23,'SINIF - VERİ GİRİŞ EKRANI'!$O23,'SINIF - VERİ GİRİŞ EKRANI'!$R23,'SINIF - VERİ GİRİŞ EKRANI'!$U23) -> 45 | Y23: 36 | Z23: =IF(X23<>"",X23-(Y23/3),"") -> 33 | AA23: 241.21 | AB23: 19 | AE23: 19. | AF23: 81 | AG23: ER OKAY | AH23: 8B | AS23: =SUM(AI23:AR23) -> 0
A24: 20 | B24: 30 | C24: HÜLYA ÖZER | D24: 8A | E24: A | F24: 10 | G24: 9 | H24: =IF(F24<>"",F24-(G24/3),"") -> 7 | I24: 6 | J24: 4 | K24: =IF(I24<>"",I24-(J24/3),"") -> 4.6666667 | L24: 9 | M24: 1 | N24: =IF(L24<>"",L24-(M24/3),"") -> 8.6666667 | O24: 4 | P24: 4 | Q24: =IF(O24<>"",O24-(P24/3),"") -> 2.6666667 | R24: 6 | S24: 6 | T24: =IF(R24<>"",R24-(S24/3),"") -> 4 | U24: 7 | V24: 13 | W24: =IF(U24<>"",U24-(V24/3),"") -> 2.6666667 | X24: =SUM('SINIF - VERİ GİRİŞ EKRANI'!$F24,'SINIF - VERİ GİRİŞ EKRANI'!$I24,'SINIF - VERİ GİRİŞ EKRANI'!$L24,'SINIF - VERİ GİRİŞ EKRANI'!$O24,'SINIF - VERİ GİRİŞ EKRANI'!$R24,'SINIF - VERİ GİRİŞ EKRANI'!$U24) -> 42 | Y24: 37 | Z24: =IF(X24<>"",X24-(Y24/3),"") -> 29.666667 | AA24: 227.76 | AB24: 20 | AE24: 20. | AF24: 121 | AG24: HAT CE DÖNEN | AH24: 8A | AS24: =SUM(AI24:AR24) -> 0
A25: 21 | B25: 78 | C25: SEVDE NUR GÜZEL | D25: 8C | E25: B | F25: 9 | G25: 6 | H25: =IF(F25<>"",F25-(G25/3),"") -> 7 | I25: 4 | J25: 2 | K25: =IF(I25<>"",I25-(J25/3),"") -> 3.3333333 | L25: 7 | M25: 2 | N25: =IF(L25<>"",L25-(M25/3),"") -> 6.3333333 | O25: 2 | P25: 0 | Q25: =IF(O25<>"",O25-(P25/3),"") -> 2 | R25: 4 | S25: 2 | T25: =IF(R25<>"",R25-(S25/3),"") -> 3.3333333 | U25: 4 | V25: 8 | W25: =IF(U25<>"",U25-(V25/3),"") -> 1.3333333 | X25: =SUM('SINIF - VERİ GİRİŞ EKRANI'!$F25,'SINIF - VERİ GİRİŞ EKRANI'!$I25,'SINIF - VERİ GİRİŞ EKRANI'!$L25,'SINIF - VERİ GİRİŞ EKRANI'!$O25,'SINIF - VERİ GİRİŞ EKRANI'!$R25,'SINIF - VERİ GİRİŞ EKRANI'!$U25) -> 30 | Y25: 20 | Z25: =IF(X25<>"",X25-(Y25/3),"") -> 23.333333 | AA25: 200.45 | AB25: 21 | AE25: 21. | AF25: 9 | AG25: HAYRUNNİSA COŞKUN | AH25: 8A | AS25: =SUM(AI25:AR25) -> 0
A26: 22 | B26: 423 | C26: İREM YAKAR | D26: 8C | E26: A | F26: 10 | G26: 5 | H26: =IF(F26<>"",F26-(G26/3),"") -> 8.3333333 | I26: 1 | J26: 4 | K26: =IF(I26<>"",I26-(J26/3),"") -> -0.33333333 | L26: 9 | M26: 1 | N26: =IF(L26<>"",L26-(M26/3),"") -> 8.6666667 | O26: 5 | P26: 3 | Q26: =IF(O26<>"",O26-(P26/3),"") -> 4 | R26: 3 | S26: 4 | T26: =IF(R26<>"",R26-(S26/3),"") -> 1.6666667 | U26: 4 | V26: 12 | W26: =IF(U26<>"",U26-(V26/3),"") -> 0 | X26: =SUM('SINIF - VERİ GİRİŞ EKRANI'!$F26,'SINIF - VERİ GİRİŞ EKRANI'!$I26,'SINIF - VERİ GİRİŞ EKRANI'!$L26,'SINIF - VERİ GİRİŞ EKRANI'!$O26,'SINIF - VERİ GİRİŞ EKRANI'!$R26,'SINIF - VERİ GİRİŞ EKRANI'!$U26) -> 32 | Y26: 29 | Z26: =IF(X26<>"",X26-(Y26/3),"") -> 22.333333 | AA26: 194.28 | AB26: 22 | AE26: 22. | AF26: 292 | AG26: HİLAL ÇAKILI | AH26: 8C | AS26: =SUM(AI26:AR26) -> 0
A27: 23 | B27: 71 | C27: YUSUF GÜZEL | D27: 8C | E27: B | F27: 9 | G27: 10 | H27: =IF(F27<>"",F27-(G27/3),"") -> 5.6666667 | I27: 5 | J27: 4 | K27: =IF(I27<>"",I27-(J27/3),"") -> 3.6666667 | L27: 7 | M27: 3 | N27: =IF(L27<>"",L27-(M27/3),"") -> 6 | O27: 3 | P27: 4 | Q27: =IF(O27<>"",O27-(P27/3),"") -> 1.6666667 | R27: 3 | S27: 5 | T27: =IF(R27<>"",R27-(S27/3),"") -> 1.3333333 | U27: 7 | V27: 10 | W27: =IF(U27<>"",U27-(V27/3),"") -> 3.6666667 | X27: =SUM('SINIF - VERİ GİRİŞ EKRANI'!$F27,'SINIF - VERİ GİRİŞ EKRANI'!$I27,'SINIF - VERİ GİRİŞ EKRANI'!$L27,'SINIF - VERİ GİRİŞ EKRANI'!$O27,'SINIF - VERİ GİRİŞ EKRANI'!$R27,'SINIF - VERİ GİRİŞ EKRANI'!$U27) -> 34 | Y27: 36 | Z27: =IF(X27<>"",X27-(Y27/3),"") -> 22 | AA27: 194.16 | AB27: 23 | AE27: 23. | AF27: 30 | AG27: HÜLYA ÖZER | AH27: 8A | AS27: =SUM(AI27:AR27) -> 0
... A42: 38 | B42: 188 | C42: AHMET KARAYAVUZ | D42: 8B | E42: A | F42: 3 | G42: 13 | H42: =IF(F42<>"",F42-(G42/3),"") -> -1.3333333 | I42: 1 | J42: 6 | K42: =IF(I42<>"",I42-(J42/3),"") -> -1 | L42: 4 | M42: 4 | N42: =IF(L42<>"",L42-(M42/3),"") -> 2.6666667 | O42: 0 | P42: 2 | Q42: =IF(O42<>"",O42-(P42/3),"") -> -0.66666667 | R42: 2 | S42: 12 | T42: =IF(R42<>"",R42-(S42/3),"") -> -2 | U42: 3 | V42: 10 | W42: =IF(U42<>"",U42-(V42/3),"") -> -0.33333333 | X42: =SUM('SINIF - VERİ GİRİŞ EKRANI'!$F42,'SINIF - VERİ GİRİŞ EKRANI'!$I42,'SINIF - VERİ GİRİŞ EKRANI'!$L42,'SINIF - VERİ GİRİŞ EKRANI'!$O42,'SINIF - VERİ GİRİŞ EKRANI'!$R42,'SINIF - VERİ GİRİŞ EKRANI'!$U42) -> 13 | Y42: 47 | Z42: =IF(X42<>"",X42-(Y42/3),"") -> -2.6666667 | AA42: 100 | AB42: 37 | AE42: 38. | AF42: 71 | AG42: YUSUF GÜZEL | AH42: 8C | AS42: =SUM(AI42:AR42) -> 0
H43: =IF(F43<>"",F43-(G43/3),"") | K43: =IF(I43<>"",I43-(J43/3),"") | N43: =IF(L43<>"",L43-(M43/3),"") | Q43: =IF(O43<>"",O43-(P43/3),"") | T43: =IF(R43<>"",R43-(S43/3),"") | W43: =IF(U43<>"",U43-(V43/3),"") | Z43: =IF(X43<>"",X43-(Y43/3),"") | AE43: 39. | AS43: =SUM(AI43:AR43) -> 0

Sheet Kişi - VERİ GİRİŞ EKRANI
B2: NET HEDEFLERİ | M2: ADI | T2: Bu Çalışma Berat Koyuncu Tarafından Hazırlanmıştır.
M3: SOYADI
B4: Türkçe | E4: 18 | G4: İngilizce | J4: 9 | M4: OKUL
B5: İnkılap tarihi | E5: 9 | G5: Matematik | J5: 15
B6: Din Kültütü | E6: 8 | G6: Fen Bilimleri | J6: 20 | L6: HEDEF PUANIN | Q6: 386
B8: SÖZEL ALAN | N8: SAYISAL ALAN
B10: TÜRKÇE | E10: İNKILAP | H10: DİN KÜLTÜRÜ | K10: İNGİLİZCE | N10: MATEMATİK | Q10: FEN BİLİMLERİ | T10: TOPLAM
B11: D | C11: Y | D11: NET | E11: D | F11: Y | G11: NET | H11: D | I11: Y | J11: NET | K11: D | L11: Y | M11: NET | N11: D | O11: Y | P11: NET | Q11: D | R11: Y | S11: NET | T11: NET | U11: PUANI
A12: DENEME 01 | D12: =IF(B12<>"",B12-(C12/3),"") | G12: =IF(E12<>"",E12-(F12/3),"") | J12: =IF(H12<>"",H12-(I12/3),"") | M12: =IF(K12<>"",K12-(L12/3),"") | P12: =IF(N12<>"",N12-(O12/3),"") | S12: =IF(Q12<>"",Q12-(R12/3),"") | T12: =SUM(D12,G12,J12,M12,P12,S12) -> 0 | U12: ='Kişi - PUAN HESAPLAMA ANALİZİ'!V12
A13: DENEME 02 | D13: =IF(B13<>"",B13-(C13/3),"") | G13: =IF(E13<>"",E13-(F13/3),"") | J13: =IF(H13<>"",H13-(I13/3),"") | M13: =IF(K13<>"",K13-(L13/3),"") | P13: =IF(N13<>"",N13-(O13/3),"") | S13: =IF(Q13<>"",Q13-(R13/3),"") | T13: =SUM(D13,G13,J13,M13,P13,S13) -> 0 | U13: ='Kişi - PUAN HESAPLAMA ANALİZİ'!V13
A14: DENEME 03 | D14: =IF(B14<>"",B14-(C14/3),"") | G14: =IF(E14<>"",E14-(F14/3),"") | J14: =IF(H14<>"",H14-(I14/3),"") | M14: =IF(K14<>"",K14-(L14/3),"") | P14: =IF(N14<>"",N14-(O14/3),"") | S14: =IF(Q14<>"",Q14-(R14/3),"") | T14: =SUM(D14,G14,J14,M14,P14,S14) -> 0 | U14: ='Kişi - PUAN HESAPLAMA ANALİZİ'!V14
A15: DENEME 04 | D15: =IF(B15<>"",B15-(C15/3),"") | G15: =IF(E15<>"",E15-(F15/3),"") | J15: =IF(H15<>"",H15-(I15/3),"") | M15: =IF(K15<>"",K15-(L15/3),"") | P15: =IF(N15<>"",N15-(O15/3),"") | S15: =IF(Q15<>"",Q15-(R15/3),"") | T15: =SUM(D15,G15,J15,M15,P15,S15) -> 0 | U15: ='Kişi - PUAN HESAPLAMA ANALİZİ'!V15
A16: DENEME 05 | D16: =IF(B16<>"",B16-(C16/3),"") | G16: =IF(E16<>"",E16-(F16/3),"") | J16: =IF(H16<>"",H16-(I16/3),"") | M16: =IF(K16<>"",K16-(L16/3),"") | P16: =IF(N16<>"",N16-(O16/3),"") | S16: =IF(Q16<>"",Q16-(R16/3),"") | T16: =SUM(D16,G16,J16,M16,P16,S16) -> 0 | U16: ='Kişi - PUAN HESAPLAMA ANALİZİ'!V16
A17: DENEME 06 | D17: =IF(B17<>"",B17-(C17/3),"") | G17: =IF(E17<>"",E17-(F17/3),"") | J17: =IF(H17<>"",H17-(I17/3),"") | M17: =IF(K17<>"",K17-(L17/3),"") | P17: =IF(N17<>"",N17-(O17/3),"") | S17: =IF(Q17<>"",Q17-(R17/3),"") | T17: =SUM(D17,G17,J17,M17,P17,S17) -> 0 | U17: ='Kişi - PUAN HESAPLAMA ANALİZİ'!V17
A18: DENEME 07 | D18: =IF(B18<>"",B18-(C18/3),"") | G18: =IF(E18<>"",E18-(F18/3),"") | J18: =IF(H18<>"",H18-(I18/3),"") | M18: =IF(K18<>"",K18-(L18/3),"") | P18: =IF(N18<>"",N18-(O18/3),"") | S18: =IF(Q18<>"",Q18-(R18/3),"") | T18: =SUM(D18,G18,J18,M18,P18,S18) -> 0 | U18: ='Kişi - PUAN HESAPLAMA ANALİZİ'!V18
A19: DENEME 08 | D19: =IF(B19<>"",B19-(C19/3),"") | G19: =IF(E19<>"",E19-(F19/3),"") | J19: =IF(H19<>"",H19-(I19/3),"") | M19: =IF(K19<>"",K19-(L19/3),"") | P19: =IF(N19<>"",N19-(O19/3),"") | S19: =IF(Q19<>"",Q19-(R19/3),"") | T19: =SUM(D19,G19,J19,M19,P19,S19) -> 0 | U19: ='Kişi - PUAN HESAPLAMA ANALİZİ'!V19
A20: DENEME 09 | D20: =IF(B20<>"",B20-(C20/3),"") | G20: =IF(E20<>"",E20-(F20/3),"") | J20: =IF(H20<>"",H20-(I20/3),"") | M20: =IF(K20<>"",K20-(L20/3),"") | P20: =IF(N20<>"",N20-(O20/3),"") | S20: =IF(Q20<>"",Q20-(R20/3),"") | T20: =SUM(D20,G20,J20,M20,P20,S20) -> 0 | U20: ='Kişi - PUAN HESAPLAMA ANALİZİ'!V20
A21: DENEME 10 | D21: =IF(B21<>"",B21-(C21/3),"") | G21: =IF(E21<>"",E21-(F21/3),"") | J21: =IF(H21<>"",H21-(I21/3),"") | M21: =IF(K21<>"",K21-(L21/3),"") | P21: =IF(N21<>"",N21-(O21/3),"") | S21: =IF(Q21<>"",Q21-(R21/3),"") | T21: =SUM(D21,G21,J21,M21,P21,S21) -> 0 | U21: ='Kişi - PUAN HESAPLAMA ANALİZİ'!V21
A22: DENEME 11 | D22: =IF(B22<>"",B22-(C22/3),"") | G22: =IF(E22<>"",E22-(F22/3),"") | J22: =IF(H22<>"",H22-(I22/3),"") | M22: =IF(K22<>"",K22-(L22/3),"") | P22: =IF(N22<>"",N22-(O22/3),"") | S22: =IF(Q22<>"",Q22-(R22/3),"") | T22: =SUM(D22,G22,J22,M22,P22,S22) -> 0 | U22: ='Kişi - PUAN HESAPLAMA ANALİZİ'!V22
A23: DENEME 12 | D23: =IF(B23<>"",B23-(C23/3),"") | G23: =IF(E23<>"",E23-(F23/3),"") | J23: =IF(H23<>"",H23-(I23/3),"") | M23: =IF(K23<>"",K23-(L23/3),"") | P23: =IF(N23<>"",N23-(O23/3),"") | S23: =IF(Q23<>"",Q23-(R23/3),"") | T23: =SUM(D23,G23,J23,M23,P23,S23) -> 0 | U23: ='Kişi - PUAN HESAPLAMA ANALİZİ'!V23
... A26: DENEME 15 | D26: =IF(B26<>"",B26-(C26/3),"") | G26: =IF(E26<>"",E26-(F26/3),"") | J26: =IF(H26<>"",H26-(I26/3),"") | M26: =IF(K26<>"",K26-(L26/3),"") | P26: =IF(N26<>"",N26-(O26/3),"") | S26: =IF(Q26<>"",Q26-(R26/3),"") | T26: =SUM(D26,G26,J26,M26,P26,S26) -> 0 | U26: ='Kişi - PUAN HESAPLAMA ANALİZİ'!V26

Sheet Kişi- Veri Analizi
B2: DENEME PUAN ARALIĞI ANALİZİ | G2: PUAN | H2: DENEME NO | K2: İlk 3 Net'lerin Sıralaması
B3: DENEME 01 | C3: =IF('Kişi - VERİ GİRİŞ EKRANI'!U12<199,"Zayıf",IF('Kişi - VERİ GİRİŞ EKRANI'!U12<299,"Orta",IF('Kişi - VERİ GİRİŞ EKRANI'!U12<399,"İyi",IF('Kişi - VERİ GİRİŞ EKRANI'!U12<501,"Süper","")))) | D3: =VLOOKUP(B3,'Kişi - VERİ GİRİŞ EKRANI'!$A$10:$U$26,21,) | F3: EN DÜŞÜK | G3: =IF(D3:D17="","",MIN(D3:D17)) | H3: =IF(D3:D17="","",INDEX($B$3:$B$17,MATCH(MIN(D3:D17),D3:D17,0))) | K3: TÜRKÇE | M3: İNKİKAP | O3: DİN KÜLTÜRÜ
B4: DENEME 02 | C4: =IF('Kişi - VERİ GİRİŞ EKRANI'!U13<199,"Zayıf",IF('Kişi - VERİ GİRİŞ EKRANI'!U13<299,"Orta",IF('Kişi - VERİ GİRİŞ EKRANI'!U13<399,"İyi",IF('Kişi - VERİ GİRİŞ EKRANI'!U13<501,"Süper","")))) | D4: =VLOOKUP(B4,'Kişi - VERİ GİRİŞ EKRANI'!$A$10:$U$26,21,) | F4: EN YÜKSEK | G4: =IF(D3:D17="","",MAX(D3:D17)) | H4: =IF(D3:D17="","",INDEX(B3:B17,MATCH(MAX(D3:D17),D3:D17,0))) | K4: Deneme No | L4: Net | M4: Deneme No | N4: Net | O4: Deneme No | P4: Net
B5: DENEME 03 | C5: =IF('Kişi - VERİ GİRİŞ EKRANI'!U14<199,"Zayıf",IF('Kişi - VERİ GİRİŞ EKRANI'!U14<299,"Orta",IF('Kişi - VERİ GİRİŞ EKRANI'!U14<399,"İyi",IF('Kişi - VERİ GİRİŞ EKRANI'!U14<501,"Süper","")))) | D5: =VLOOKUP(B5,'Kişi - VERİ GİRİŞ EKRANI'!$A$10:$U$26,21,) | K5: =INDEX('Kişi - VERİ GİRİŞ EKRANI'!$A$12:$A$26,MATCH('Kişi- Veri Analizi'!L5,'Kişi - VERİ GİRİŞ EKRANI'!D12:D26,0)) -> #NUM! | L5: =LARGE('Kişi - VERİ GİRİŞ EKRANI'!$D$12:$D$26,1) -> #NUM! | M5: =INDEX('Kişi - VERİ GİRİŞ EKRANI'!$A$12:$A$26,MATCH('Kişi- Veri Analizi'!N5,'Kişi - VERİ GİRİŞ EKRANI'!G12:G26,0)) -> #NUM! | N5: =LARGE('Kişi - VERİ GİRİŞ EKRANI'!$G$12:$G$26,1) -> #NUM! | O5: =INDEX('Kişi - VERİ GİRİŞ EKRANI'!$A$12:$A$26,MATCH('Kişi- Veri Analizi'!P5,'Kişi - VERİ GİRİŞ EKRANI'!J12:J26,0)) -> #NUM! | P5: =LARGE('Kişi - VERİ GİRİŞ EKRANI'!$J$12:$J$26,1) -> #NUM!
B6: DENEME 04 | C6: =IF('Kişi - VERİ GİRİŞ EKRANI'!U15<199,"Zayıf",IF('Kişi - VERİ GİRİŞ EKRANI'!U15<299,"Orta",IF('Kişi - VERİ GİRİŞ EKRANI'!U15<399,"İyi",IF('Kişi - VERİ GİRİŞ EKRANI'!U15<501,"Süper","")))) | D6: =VLOOKUP(B6,'Kişi - VERİ GİRİŞ EKRANI'!$A$10:$U$26,21,) | F6: DENEME DERECELENDİRMESİ | K6: =INDEX('Kişi - VERİ GİRİŞ EKRANI'!$A$12:$A$26,MATCH('Kişi- Veri Analizi'!L6,'Kişi - VERİ GİRİŞ EKRANI'!D12:D26,0)) -> #NUM! | L6: =LARGE('Kişi - VERİ GİRİŞ EKRANI'!$D$12:$D$26,2) -> #NUM! | M6: =INDEX('Kişi - VERİ GİRİŞ EKRANI'!$A$12:$A$26,MATCH('Kişi- Veri Analizi'!N6,'Kişi - VERİ GİRİŞ EKRANI'!G12:G26,0)) -> #NUM! | N6: =LARGE('Kişi - VERİ GİRİŞ EKRANI'!$G$12:$G$26,2) -> #NUM! | O6: =INDEX('Kişi - VERİ GİRİŞ EKRANI'!$A$12:$A$26,MATCH('Kişi- Veri Analizi'!P6,'Kişi - VERİ GİRİŞ EKRANI'!J12:J26,0)) -> #NUM! | P6: =LARGE('Kişi - VERİ GİRİŞ EKRANI'!$J$12:$J$26,2) -> #NUM!
B7: DENEME 05 | C7: =IF('Kişi - VERİ GİRİŞ EKRANI'!U16<199,"Zayıf",IF('Kişi - VERİ GİRİŞ EKRANI'!U16<299,"Orta",IF('Kişi - VERİ GİRİŞ EKRANI'!U16<399,"İyi",IF('Kişi - VERİ GİRİŞ EKRANI'!U16<501,"Süper","")))) | D7: =VLOOKUP(B7,'Kişi - VERİ GİRİŞ EKRANI'!$A$10:$U$26,21,) | F7: Zayıf | G7: Orta | H7: İyi | I7: Süper | K7: =INDEX('Kişi - VERİ GİRİŞ EKRANI'!$A$12:$A$26,MATCH('Kişi- Veri Analizi'!L7,'Kişi - VERİ GİRİŞ EKRANI'!D12:D26,0)) -> #NUM! | L7: =LARGE('Kişi - VERİ GİRİŞ EKRANI'!$D$12:$D$26,3) -> #NUM! | M7: =INDEX('Kişi - VERİ GİRİŞ EKRANI'!$A$12:$A$26,MATCH('Kişi- Veri Analizi'!N7,'Kişi - VERİ GİRİŞ EKRANI'!G12:G26,0)) -> #NUM! | N7: =LARGE('Kişi - VERİ GİRİŞ EKRANI'!$G$12:$G$26,3) -> #NUM! | O7: =INDEX('Kişi - VERİ GİRİŞ EKRANI'!$A$12:$A$26,MATCH('Kişi- Veri Analizi'!P7,'Kişi - VERİ GİRİŞ EKRANI'!J12:J26,0)) -> #NUM! | P7: =LARGE('Kişi - VERİ GİRİŞ EKRANI'!$J$12:$J$26,3) -> #NUM!
B8: DENEME 06 | C8: =IF('Kişi - VERİ GİRİŞ EKRANI'!U17<199,"Zayıf",IF('Kişi - VERİ GİRİŞ EKRANI'!U17<299,"Orta",IF('Kişi - VERİ GİRİŞ EKRANI'!U17<399,"İyi",IF('Kişi - VERİ GİRİŞ EKRANI'!U17<501,"Süper","")))) | D8: =VLOOKUP(B8,'Kişi - VERİ GİRİŞ EKRANI'!$A$10:$U$26,21,) | F8: =COUNTIF($C$3:$C$17,F7) -> 0 | G8: =COUNTIF($C$3:$C$17,G7) -> 0 | H8: =COUNTIF($C$3:$C$17,H7) -> 0 | I8: =COUNTIF($C$3:$C$17,I7) -> 0 | K8: İNGİLİZCE | M8: MATEMATİK | O8: FEN BİLGİSİ
B9: DENEME 07 | C9: =IF('Kişi - VERİ GİRİŞ EKRANI'!U18<199,"Zayıf",IF('Kişi - VERİ GİRİŞ EKRANI'!U18<299,"Orta",IF('Kişi - VERİ GİRİŞ EKRANI'!U18<399,"İyi",IF('Kişi - VERİ GİRİŞ EKRANI'!U18<501,"Süper","")))) | D9: =VLOOKUP(B9,'Kişi - VERİ GİRİŞ EKRANI'!$A$10:$U$26,21,) | K9: Deneme No | L9: Net | M9: Deneme No | N9: Net | O9: Deneme No | P9: Net
B10: DENEME 08 | C10: =IF('Kişi - VERİ GİRİŞ EKRANI'!U19<199,"Zayıf",IF('Kişi - VERİ GİRİŞ EKRANI'!U19<299,"Orta",IF('Kişi - VERİ GİRİŞ EKRANI'!U19<399,"İyi",IF('Kişi - VERİ GİRİŞ EKRANI'!U19<501,"Süper","")))) | D10: =VLOOKUP(B10,'Kişi - VERİ GİRİŞ EKRANI'!$A$10:$U$26,21,) | K10: =INDEX('Kişi - VERİ GİRİŞ EKRANI'!$A$12:$A$26,MATCH('Kişi- Veri Analizi'!L10,'Kişi - VERİ GİRİŞ EKRANI'!M12:M27,0)) -> #NUM! | L10: =LARGE('Kişi - VERİ GİRİŞ EKRANI'!$M$12:$M$26,1) -> #NUM! | M10: =INDEX('Kişi - VERİ GİRİŞ EKRANI'!$A$12:$A$26,MATCH('Kişi- Veri Analizi'!N10,'Kişi - VERİ GİRİŞ EKRANI'!P12:P27,0)) -> #NUM! | N10: =LARGE('Kişi - VERİ GİRİŞ EKRANI'!$P$12:$P$26,1) -> #NUM! | O10: =INDEX('Kişi - VERİ GİRİŞ EKRANI'!$A$12:$A$26,MATCH('Kişi- Veri Analizi'!P10,'Kişi - VERİ GİRİŞ EKRANI'!S12:S27,0)) -> #NUM! | P10: =LARGE('Kişi - VERİ GİRİŞ EKRANI'!$S$12:$S$26,1) -> #NUM!
B11: DENEME 09 | C11: =IF('Kişi - VERİ GİRİŞ EKRANI'!U20<199,"Zayıf",IF('Kişi - VERİ GİRİŞ EKRANI'!U20<299,"Orta",IF('Kişi - VERİ GİRİŞ EKRANI'!U20<399,"İyi",IF('Kişi - VERİ GİRİŞ EKRANI'!U20<501,"Süper","")))) | D11: =VLOOKUP(B11,'Kişi - VERİ GİRİŞ EKRANI'!$A$10:$U$26,21,) | F11: 0-199 | G11: Zayıf | K11: =INDEX('Kişi - VERİ GİRİŞ EKRANI'!$A$12:$A$26,MATCH('Kişi- Veri Analizi'!L11,'Kişi - VERİ GİRİŞ EKRANI'!M12:M27,0)) -> #NUM! | L11: =LARGE('Kişi - VERİ GİRİŞ EKRANI'!$M$12:$M$26,2) -> #NUM! | M11: =INDEX('Kişi - VERİ GİRİŞ EKRANI'!$A$12:$A$26,MATCH('Kişi- Veri Analizi'!N11,'Kişi - VERİ GİRİŞ EKRANI'!P12:P27,0)) -> #NUM! | N11: =LARGE('Kişi - VERİ GİRİŞ EKRANI'!$P$12:$P$26,2) -> #NUM! | O11: =INDEX('Kişi - VERİ GİRİŞ EKRANI'!$A$12:$A$26,MATCH('Kişi- Veri Analizi'!P11,'Kişi - VERİ GİRİŞ EKRANI'!S12:S27,0)) -> #NUM! | P11: =LARGE('Kişi - VERİ GİRİŞ EKRANI'!$S$12:$S$26,2) -> #NUM!
B12: DENEME 10 | C12: =IF('Kişi - VERİ GİRİŞ EKRANI'!U21<199,"Zayıf",IF('Kişi - VERİ GİRİŞ EKRANI'!U21<299,"Orta",IF('Kişi - VERİ GİRİŞ EKRANI'!U21<399,"İyi",IF('Kişi - VERİ GİRİŞ EKRANI'!U21<501,"Süper","")))) | D12: =VLOOKUP(B12,'Kişi - VERİ GİRİŞ EKRANI'!$A$10:$U$26,21,) | F12: 200-299 | G12: Orta | K12: =INDEX('Kişi - VERİ GİRİŞ EKRANI'!$A$12:$A$26,MATCH('Kişi- Veri Analizi'!L12,'Kişi - VERİ GİRİŞ EKRANI'!M12:M27,0)) -> #NUM! | L12: =LARGE('Kişi - VERİ GİRİŞ EKRANI'!$M$12:$M$26,3) -> #NUM! | M12: =INDEX('Kişi - VERİ GİRİŞ EKRANI'!$A$12:$A$26,MATCH('Kişi- Veri Analizi'!N12,'Kişi - VERİ GİRİŞ EKRANI'!P12:P27,0)) -> #NUM! | N12: =LARGE('Kişi - VERİ GİRİŞ EKRANI'!$P$12:$P$26,3) -> #NUM! | O12: =INDEX('Kişi - VERİ GİRİŞ EKRANI'!$A$12:$A$26,MATCH('Kişi- Veri Analizi'!P12,'Kişi - VERİ GİRİŞ EKRANI'!S12:S27,0)) -> #NUM! | P12: =LARGE('Kişi - VERİ GİRİŞ EKRANI'!$S$12:$S$26,3) -> #NUM!
B13: DENEME 11 | C13: =IF('Kişi - VERİ GİRİŞ EKRANI'!U22<199,"Zayıf",IF('Kişi - VERİ GİRİŞ EKRANI'!U22<299,"Orta",IF('Kişi - VERİ GİRİŞ EKRANI'!U22<399,"İyi",IF('Kişi - VERİ GİRİŞ EKRANI'!U22<501,"Süper","")))) | D13: =VLOOKUP(B13,'Kişi - VERİ GİRİŞ EKRANI'!$A$10:$U$26,21,) | F13: 300-399 | G13: İyi | K13: Yukarıda Yer Alan Sonuçlar Kişi - Veri Giril Ekranın'da Yer Alan Netlerinden Veri Çekilerek Alınmıştır. Aynı Nete Denk Gelen Denemeler İlk Sıradaki Deneme Numarasını Almaktadır.
B14: DENEME 12 | C14: =IF('Kişi - VERİ GİRİŞ EKRANI'!U23<199,"Zayıf",IF('Kişi - VERİ GİRİŞ EKRANI'!U23<299,"Orta",IF('Kişi - VERİ GİRİŞ EKRANI'!U23<399,"İyi",IF('Kişi - VERİ GİRİŞ EKRANI'!U23<501,"Süper","")))) | D14: =VLOOKUP(B14,'Kişi - VERİ GİRİŞ EKRANI'!$A$10:$U$26,21,) | F14: 400-500 | G14: Süper
B15: DENEME 13 | C15: =IF('Kişi - VERİ GİRİŞ EKRANI'!U24<199,"Zayıf",IF('Kişi - VERİ GİRİŞ EKRANI'!U24<299,"Orta",IF('Kişi - VERİ GİRİŞ EKRANI'!U24<399,"İyi",IF('Kişi - VERİ GİRİŞ EKRANI'!U24<501,"Süper","")))) | D15: =VLOOKUP(B15,'Kişi - VERİ GİRİŞ EKRANI'!$A$10:$U$26,21,)
B16: DENEME 14 | C16: =IF('Kişi - VERİ GİRİŞ EKRANI'!U25<199,"Zayıf",IF('Kişi - VERİ GİRİŞ EKRANI'!U25<299,"Orta",IF('Kişi - VERİ GİRİŞ EKRANI'!U25<399,"İyi",IF('Kişi - VERİ GİRİŞ EKRANI'!U25<501,"Süper","")))) | D16: =VLOOKUP(B16,'Kişi - VERİ GİRİŞ EKRANI'!$A$10:$U$26,21,)
B17: DENEME 15 | C17: =IF('Kişi - VERİ GİRİŞ EKRANI'!U26<199,"Zayıf",IF('Kişi - VERİ GİRİŞ EKRANI'!U26<299,"Orta",IF('Kişi - VERİ GİRİŞ EKRANI'!U26<399,"İyi",IF('Kişi - VERİ GİRİŞ EKRANI'!U26<501,"Süper","")))) | D17: =VLOOKUP(B17,'Kişi - VERİ GİRİŞ EKRANI'!$A$10:$U$26,21,)
B21: Grafiklerle Net Sayılarınız

Sheet Kişi - PUAN HESAPLAMA ANALİZİ
A1: 2019 | B1: TÜRKÇE | C1: İNKİLAP | D1: DİN | E1: İNG | F1: MAT | G1: FEN
A2: TÜRKİYE ORTALAMA | B2: 9.45 | C2: 6.04 | D2: 5.91 | E2: 3.62 | F2: 2.8 | G2: 7.27
A3: STANDART SAPMA | B3: 5.15 | C3: 2.82 | D3: 2.41 | E3: 3.21 | F3: 4.24 | G3: 4.72
A4: AĞIRLIK KATSAYILARI | B4: 4 | C4: 1 | D4: 1 | E4: 1 | F4: 4 | G4: 4
A6: 2020 | B6: TÜRKÇE | C6: İNKİLAP | D6: DİN | E6: İNG | F6: MAT | G6: FEN
A7: TÜRKİYE ORTALAMA | B7: 7.44 | C7: 3.86 | D7: 5.43 | E7: 2.56 | F7: 2.55 | G7: 7.82
A8: STANDART SAPMA | B8: 4.49 | C8: 3.07 | D8: 2.77 | E8: 3.22 | F8: 3.42 | G8: 5.16
A9: AĞIRLIK KATSAYILARI | B9: 4 | C9: 1 | D9: 1 | E9: 1 | F9: 4 | G9: 4
B11: TÜRKÇE | C11: İNKİLAP | D11: DİN | E11: İNG | F11: MAT | G11: FEN | H11: T.NET | I11: SP-TÜRKÇE | J11: SP-İNKİLAP | K11: SP-DİN | L11: SP-İNG | M11: SP-MAT | N11: SP-FEN | O11: ASP-TÜRKÇE | P11: ASP-İNKİLAP | Q11: ASP-DİN | R11: ASP-İNG | S11: ASP-MAT | T11: ASP-FE | U11: TASP | V11: M.S.P
A12: DENEME 01 | B12: ='Kişi - VERİ GİRİŞ EKRANI'!D12 | C12: ='Kişi - VERİ GİRİŞ EKRANI'!G12 | D12: ='Kişi - VERİ GİRİŞ EKRANI'!J12 | E12: ='Kişi - VERİ GİRİŞ EKRANI'!M12 | F12: ='Kişi - VERİ GİRİŞ EKRANI'!P12 | G12: =IF(G2="","",'Kişi - VERİ GİRİŞ EKRANI'!S12) | H12: =SUM(B12:G12) -> 0 | I12: =IF(B12="","",10*(B12-$B$7)/$B$8+50) | J12: =IF(C12="","",10*(C12-$C$7)/$C$8+50) | K12: =IF(D12="","",10*(D12-$D$7)/$D$8+50) | L12: =IF(E12="","",10*(E12-$E$7)/$E$8+50) | M12: =IF(F12="","",10*(F12-$F$7)/$F$8+50) | N12: =IF(G12="","",10*(G12-$G$7)/$G$8+50) | O12: =IF(I12="","",I12*$B$9) | P12: =IF(J12="","",J12*$C$9) | Q12: =IF(K12="","",K12*$D$9) | R12: =IF(L12="","",L12*$E$9) | S12: =IF(M12="","",M12*$F$9) | T12: =IF(N12="","",N12*$G$9) | U12: =SUM(O12:T12) -> 0 | V12: =IF(U12=0,"",100+(400*(U12-$U$27)/($U$28-$U$27)))
A13: DENEME 02 | B13: ='Kişi - VERİ GİRİŞ EKRANI'!D13 | C13: ='Kişi - VERİ GİRİŞ EKRANI'!G13 | D13: ='Kişi - VERİ GİRİŞ EKRANI'!J13 | E13: ='Kişi - VERİ GİRİŞ EKRANI'!M13 | F13: ='Kişi - VERİ GİRİŞ EKRANI'!P13 | G13: ='Kişi - VERİ GİRİŞ EKRANI'!S13 | H13: =SUM(B13:G13) -> 0 | I13: =IF(B13="","",10*(B13-$B$7)/$B$8+50) | J13: =IF(C13="","",10*(C13-$C$7)/$C$8+50) | K13: =IF(D13="","",10*(D13-$D$7)/$D$8+50) | L13: =IF(E13="","",10*(E13-$E$7)/$E$8+50) | M13: =IF(F13="","",10*(F13-$F$7)/$F$8+50) | N13: =IF(G13="","",10*(G13-$G$7)/$G$8+50) | O13: =IF(I13="","",I13*$B$9) | P13: =IF(J13="","",J13*$C$9) | Q13: =IF(K13="","",K13*$D$9) | R13: =IF(L13="","",L13*$E$9) | S13: =IF(M13="","",M13*$F$9) | T13: =IF(N13="","",N13*$G$9) | U13: =SUM(O13:T13) -> 0 | V13: =IF(U13=0,"",100+(400*(U13-$U$27)/($U$28-$U$27)))
A14: DENEME 03 | B14: ='Kişi - VERİ GİRİŞ EKRANI'!D14 | C14: ='Kişi - VERİ GİRİŞ EKRANI'!G14 | D14: ='Kişi - VERİ GİRİŞ EKRANI'!J14 | E14: ='Kişi - VERİ GİRİŞ EKRANI'!M14 | F14: ='Kişi - VERİ GİRİŞ EKRANI'!P14 | G14: ='Kişi - VERİ GİRİŞ EKRANI'!S14 | H14: =SUM(B14:G14) -> 0 | I14: =IF(B14="","",10*(B14-$B$7)/$B$8+50) | J14: =IF(C14="","",10*(C14-$C$7)/$C$8+50) | K14: =IF(D14="","",10*(D14-$D$7)/$D$8+50) | L14: =IF(E14="","",10*(E14-$E$7)/$E$8+50) | M14: =IF(F14="","",10*(F14-$F$7)/$F$8+50) | N14: =IF(G14="","",10*(G14-$G$7)/$G$8+50) | O14: =IF(I14="","",I14*$B$9) | P14: =IF(J14="","",J14*$C$9) | Q14: =IF(K14="","",K14*$D$9) | R14: =IF(L14="","",L14*$E$9) | S14: =IF(M14="","",M14*$F$9) | T14: =IF(N14="","",N14*$G$9) | U14: =SUM(O14:T14) -> 0 | V14: =IF(U14=0,"",100+(400*(U14-$U$27)/($U$28-$U$27)))
A15: DENEME 04 | B15: ='Kişi - VERİ GİRİŞ EKRANI'!D15 | C15: ='Kişi - VERİ GİRİŞ EKRANI'!G15 | D15: ='Kişi - VERİ GİRİŞ EKRANI'!J15 | E15: ='Kişi - VERİ GİRİŞ EKRANI'!M15 | F15: ='Kişi - VERİ GİRİŞ EKRANI'!P15 | G15: ='Kişi - VERİ GİRİŞ EKRANI'!S15 | H15: =SUM(B15:G15) -> 0 | I15: =IF(B15="","",10*(B15-$B$7)/$B$8+50) | J15: =IF(C15="","",10*(C15-$C$7)/$C$8+50) | K15: =IF(D15="","",10*(D15-$D$7)/$D$8+50) | L15: =IF(E15="","",10*(E15-$E$7)/$E$8+50) | M15: =IF(F15="","",10*(F15-$F$7)/$F$8+50) | N15: =IF(G15="","",10*(G15-$G$7)/$G$8+50) | O15: =IF(I15="","",I15*$B$9) | P15: =IF(J15="","",J15*$C$9) | Q15: =IF(K15="","",K15*$D$9) | R15: =IF(L15="","",L15*$E$9) | S15: =IF(M15="","",M15*$F$9) | T15: =IF(N15="","",N15*$G$9) | U15: =SUM(O15:T15) -> 0 | V15: =IF(U15=0,"",100+(400*(U15-$U$27)/($U$28-$U$27)))
A16: DENEME 05 | B16: ='Kişi - VERİ GİRİŞ EKRANI'!D16 | C16: ='Kişi - VERİ GİRİŞ EKRANI'!G16 | D16: ='Kişi - VERİ GİRİŞ EKRANI'!J16 | E16: ='Kişi - VERİ GİRİŞ EKRANI'!M16 | F16: ='Kişi - VERİ GİRİŞ EKRANI'!P16 | G16: ='Kişi - VERİ GİRİŞ EKRANI'!S16 | H16: =SUM(B16:G16) -> 0 | I16: =IF(B16="","",10*(B16-$B$7)/$B$8+50) | J16: =IF(C16="","",10*(C16-$C$7)/$C$8+50) | K16: =IF(D16="","",10*(D16-$D$7)/$D$8+50) | L16: =IF(E16="","",10*(E16-$E$7)/$E$8+50) | M16: =IF(F16="","",10*(F16-$F$7)/$F$8+50) | N16: =IF(G16="","",10*(G16-$G$7)/$G$8+50) | O16: =IF(I16="","",I16*$B$9) | P16: =IF(J16="","",J16*$C$9) | Q16: =IF(K16="","",K16*$D$9) | R16: =IF(L16="","",L16*$E$9) | S16: =IF(M16="","",M16*$F$9) | T16: =IF(N16="","",N16*$G$9) | U16: =SUM(O16:T16) -> 0 | V16: =IF(U16=0,"",100+(400*(U16-$U$27)/($U$28-$U$27)))
A17: DENEME 06 | B17: ='Kişi - VERİ GİRİŞ EKRANI'!D17 | C17: ='Kişi - VERİ GİRİŞ EKRANI'!G17 | D17: ='Kişi - VERİ GİRİŞ EKRANI'!J17 | E17: ='Kişi - VERİ GİRİŞ EKRANI'!M17 | F17: ='Kişi - VERİ GİRİŞ EKRANI'!P17 | G17: ='Kişi - VERİ GİRİŞ EKRANI'!S17 | H17: =SUM(B17:G17) -> 0 | I17: =IF(B17="","",10*(B17-$B$7)/$B$8+50) | J17: =IF(C17="","",10*(C17-$C$7)/$C$8+50) | K17: =IF(D17="","",10*(D17-$D$7)/$D$8+50) | L17: =IF(E17="","",10*(E17-$E$7)/$E$8+50) | M17: =IF(F17="","",10*(F17-$F$7)/$F$8+50) | N17: =IF(G17="","",10*(G17-$G$7)/$G$8+50) | O17: =IF(I17="","",I17*$B$9) | P17: =IF(J17="","",J17*$C$9) | Q17: =IF(K17="","",K17*$D$9) | R17: =IF(L17="","",L17*$E$9) | S17: =IF(M17="","",M17*$F$9) | T17: =IF(N17="","",N17*$G$9) | U17: =SUM(O17:T17) -> 0 | V17: =IF(U17=0,"",100+(400*(U17-$U$27)/($U$28-$U$27)))
A18: DENEME 07 | B18: ='Kişi - VERİ GİRİŞ EKRANI'!D18 | C18: ='Kişi - VERİ GİRİŞ EKRANI'!G18 | D18: ='Kişi - VERİ GİRİŞ EKRANI'!J18 | E18: ='Kişi - VERİ GİRİŞ EKRANI'!M18 | F18: ='Kişi - VERİ GİRİŞ EKRANI'!P18 | G18: ='Kişi - VERİ GİRİŞ EKRANI'!S18 | H18: =SUM(B18:G18) -> 0 | I18: =IF(B18="","",10*(B18-$B$7)/$B$8+50) | J18: =IF(C18="","",10*(C18-$C$7)/$C$8+50) | K18: =IF(D18="","",10*(D18-$D$7)/$D$8+50) | L18: =IF(E18="","",10*(E18-$E$7)/$E$8+50) | M18: =IF(F18="","",10*(F18-$F$7)/$F$8+50) | N18: =IF(G18="","",10*(G18-$G$7)/$G$8+50) | O18: =IF(I18="","",I18*$B$9) | P18: =IF(J18="","",J18*$C$9) | Q18: =IF(K18="","",K18*$D$9) | R18: =IF(L18="","",L18*$E$9) | S18: =IF(M18="","",M18*$F$9) | T18: =IF(N18="","",N18*$G$9) | U18: =SUM(O18:T18) -> 0 | V18: =IF(U18=0,"",100+(400*(U18-$U$27)/($U$28-$U$27)))
A19: DENEME 08 | B19: ='Kişi - VERİ GİRİŞ EKRANI'!D19 | C19: ='Kişi - VERİ GİRİŞ EKRANI'!G19 | D19: ='Kişi - VERİ GİRİŞ EKRANI'!J19 | E19: ='Kişi - VERİ GİRİŞ EKRANI'!M19 | F19: ='Kişi - VERİ GİRİŞ EKRANI'!P19 | G19: ='Kişi - VERİ GİRİŞ EKRANI'!S19 | H19: =SUM(B19:G19) -> 0 | I19: =IF(B19="","",10*(B19-$B$7)/$B$8+50) | J19: =IF(C19="","",10*(C19-$C$7)/$C$8+50) | K19: =IF(D19="","",10*(D19-$D$7)/$D$8+50) | L19: =IF(E19="","",10*(E19-$E$7)/$E$8+50) | M19: =IF(F19="","",10*(F19-$F$7)/$F$8+50) | N19: =IF(G19="","",10*(G19-$G$7)/$G$8+50) | O19: =IF(I19="","",I19*$B$9) | P19: =IF(J19="","",J19*$C$9) | Q19: =IF(K19="","",K19*$D$9) | R19: =IF(L19="","",L19*$E$9) | S19: =IF(M19="","",M19*$F$9) | T19: =IF(N19="","",N19*$G$9) | U19: =SUM(O19:T19) -> 0 | V19: =IF(U19=0,"",100+(400*(U19-$U$27)/($U$28-$U$27)))
A20: DENEME 09 | B20: ='Kişi - VERİ GİRİŞ EKRANI'!D20 | C20: ='Kişi - VERİ GİRİŞ EKRANI'!G20 | D20: ='Kişi - VERİ GİRİŞ EKRANI'!J20 | E20: ='Kişi - VERİ GİRİŞ EKRANI'!M20 | F20: ='Kişi - VERİ GİRİŞ EKRANI'!P20 | G20: ='Kişi - VERİ GİRİŞ EKRANI'!S20 | H20: =SUM(B20:G20) -> 0 | I20: =IF(B20="","",10*(B20-$B$7)/$B$8+50) | J20: =IF(C20="","",10*(C20-$C$7)/$C$8+50) | K20: =IF(D20="","",10*(D20-$D$7)/$D$8+50) | L20: =IF(E20="","",10*(E20-$E$7)/$E$8+50) | M20: =IF(F20="","",10*(F20-$F$7)/$F$8+50) | N20: =IF(G20="","",10*(G20-$G$7)/$G$8+50) | O20: =IF(I20="","",I20*$B$9) | P20: =IF(J20="","",J20*$C$9) | Q20: =IF(K20="","",K20*$D$9) | R20: =IF(L20="","",L20*$E$9) | S20: =IF(M20="","",M20*$F$9) | T20: =IF(N20="","",N20*$G$9) | U20: =SUM(O20:T20) -> 0 | V20: =IF(U20=0,"",100+(400*(U20-$U$27)/($U$28-$U$27)))
A21: DENEME 10 | B21: ='Kişi - VERİ GİRİŞ EKRANI'!D21 | C21: ='Kişi - VERİ GİRİŞ EKRANI'!G21 | D21: ='Kişi - VERİ GİRİŞ EKRANI'!J21 | E21: ='Kişi - VERİ GİRİŞ EKRANI'!M21 | F21: ='Kişi - VERİ GİRİŞ EKRANI'!P21 | G21: ='Kişi - VERİ GİRİŞ EKRANI'!S21 | H21: =SUM(B21:G21) -> 0 | I21: =IF(B21="","",10*(B21-$B$7)/$B$8+50) | J21: =IF(C21="","",10*(C21-$C$7)/$C$8+50) | K21: =IF(D21="","",10*(D21-$D$7)/$D$8+50) | L21: =IF(E21="","",10*(E21-$E$7)/$E$8+50) | M21: =IF(F21="","",10*(F21-$F$7)/$F$8+50) | N21: =IF(G21="","",10*(G21-$G$7)/$G$8+50) | O21: =IF(I21="","",I21*$B$9) | P21: =IF(J21="","",J21*$C$9) | Q21: =IF(K21="","",K21*$D$9) | R21: =IF(L21="","",L21*$E$9) | S21: =IF(M21="","",M21*$F$9) | T21: =IF(N21="","",N21*$G$9) | U21: =SUM(O21:T21) -> 0 | V21: =IF(U21=0,"",100+(400*(U21-$U$27)/($U$28-$U$27)))
A22: DENEME 11 | B22: ='Kişi - VERİ GİRİŞ EKRANI'!D22 | C22: ='Kişi - VERİ GİRİŞ EKRANI'!G22 | D22: ='Kişi - VERİ GİRİŞ EKRANI'!J22 | E22: ='Kişi - VERİ GİRİŞ EKRANI'!M22 | F22: ='Kişi - VERİ GİRİŞ EKRANI'!P22 | G22: ='Kişi - VERİ GİRİŞ EKRANI'!S22 | H22: =SUM(B22:G22) -> 0 | I22: =IF(B22="","",10*(B22-$B$7)/$B$8+50) | J22: =IF(C22="","",10*(C22-$C$7)/$C$8+50) | K22: =IF(D22="","",10*(D22-$D$7)/$D$8+50) | L22: =IF(E22="","",10*(E22-$E$7)/$E$8+50) | M22: =IF(F22="","",10*(F22-$F$7)/$F$8+50) | N22: =IF(G22="","",10*(G22-$G$7)/$G$8+50) | O22: =IF(I22="","",I22*$B$9) | P22: =IF(J22="","",J22*$C$9) | Q22: =IF(K22="","",K22*$D$9) | R22: =IF(L22="","",L22*$E$9) | S22: =IF(M22="","",M22*$F$9) | T22: =IF(N22="","",N22*$G$9) | U22: =SUM(O22:T22) -> 0 | V22: =IF(U22=0,"",100+(400*(U22-$U$27)/($U$28-$U$27)))
A23: DENEME 12 | B23: ='Kişi - VERİ GİRİŞ EKRANI'!D23 | C23: ='Kişi - VERİ GİRİŞ EKRANI'!G23 | D23: ='Kişi - VERİ GİRİŞ EKRANI'!J23 | E23: ='Kişi - VERİ GİRİŞ EKRANI'!M23 | F23: ='Kişi - VERİ GİRİŞ EKRANI'!P23 | G23: ='Kişi - VERİ GİRİŞ EKRANI'!S23 | H23: =SUM(B23:G23) -> 0 | I23: =IF(B23="","",10*(B23-$B$7)/$B$8+50) | J23: =IF(C23="","",10*(C23-$C$7)/$C$8+50) | K23: =IF(D23="","",10*(D23-$D$7)/$D$8+50) | L23: =IF(E23="","",10*(E23-$E$7)/$E$8+50) | M23: =IF(F23="","",10*(F23-$F$7)/$F$8+50) | N23: =IF(G23="","",10*(G23-$G$7)/$G$8+50) | O23: =IF(I23="","",I23*$B$9) | P23: =IF(J23="","",J23*$C$9) | Q23: =IF(K23="","",K23*$D$9) | R23: =IF(L23="","",L23*$E$9) | S23: =IF(M23="","",M23*$F$9) | T23: =IF(N23="","",N23*$G$9) | U23: =SUM(O23:T23) -> 0 | V23: =IF(U23=0,"",100+(400*(U23-$U$27)/($U$28-$U$27)))
A24: DENEME 13 | B24: ='Kişi - VERİ GİRİŞ EKRANI'!D24 | C24: ='Kişi - VERİ GİRİŞ EKRANI'!G24 | D24: ='Kişi - VERİ GİRİŞ EKRANI'!J24 | E24: ='Kişi - VERİ GİRİŞ EKRANI'!M24 | F24: ='Kişi - VERİ GİRİŞ EKRANI'!P24 | G24: ='Kişi - VERİ GİRİŞ EKRANI'!S24 | H24: =SUM(B24:G24) -> 0 | I24: =IF(B24="","",10*(B24-$B$7)/$B$8+50) | J24: =IF(C24="","",10*(C24-$C$7)/$C$8+50) | K24: =IF(D24="","",10*(D24-$D$7)/$D$8+50) | L24: =IF(E24="","",10*(E24-$E$7)/$E$8+50) | M24: =IF(F24="","",10*(F24-$F$7)/$F$8+50) | N24: =IF(G24="","",10*(G24-$G$7)/$G$8+50) | O24: =IF(I24="","",I24*$B$9) | P24: =IF(J24="","",J24*$C$9) | Q24: =IF(K24="","",K24*$D$9) | R24: =IF(L24="","",L24*$E$9) | S24: =IF(M24="","",M24*$F$9) | T24: =IF(N24="","",N24*$G$9) | U24: =SUM(O24:T24) -> 0 | V24: =IF(U24=0,"",100+(400*(U24-$U$27)/($U$28-$U$27)))
... A26: DENEME 15 | B26: ='Kişi - VERİ GİRİŞ EKRANI'!D26 | C26: ='Kişi - VERİ GİRİŞ EKRANI'!G26 | D26: ='Kişi - VERİ GİRİŞ EKRANI'!J26 | E26: ='Kişi - VERİ GİRİŞ EKRANI'!M26 | F26: ='Kişi - VERİ GİRİŞ EKRANI'!P26 | G26: ='Kişi - VERİ GİRİŞ EKRANI'!S26 | H26: =SUM(B26:G26) -> 0 | I26: =IF(B26="","",10*(B26-$B$7)/$B$8+50) | J26: =IF(C26="","",10*(C26-$C$7)/$C$8+50) | K26: =IF(D26="","",10*(D26-$D$7)/$D$8+50) | L26: =IF(E26="","",10*(E26-$E$7)/$E$8+50) | M26: =IF(F26="","",10*(F26-$F$7)/$F$8+50) | N26: =IF(G26="","",10*(G26-$G$7)/$G$8+50) | O26: =IF(I26="","",I26*$B$9) | P26: =IF(J26="","",J26*$C$9) | Q26: =IF(K26="","",K26*$D$9) | R26: =IF(L26="","",L26*$E$9) | S26: =IF(M26="","",M26*$F$9) | T26: =IF(N26="","",N26*$G$9) | U26: =SUM(O26:T26) -> 0 | V26: =IF(U26=0,"",100+(400*(U26-$U$27)/($U$28-$U$27)))
A27: EN DÜŞÜK | B27: -6.333 | C27: -2.333 | D27: -2.333 | E27: -3.333 | F27: -5.666 | G27: -6 | H27: =SUM(B27:G27) -> -25.998 | I27: =10*(B27-$B$7)/$B$8+50 -> 19.325167 | J27: =10*(C27-$C$7)/$C$8+50 -> 29.827362 | K27: =10*(D27-$D$7)/$D$8+50 -> 21.974729 | L27: =10*(E27-$E$7)/$E$8+50 -> 31.698758 | M27: =10*(F27-$F$7)/$F$8+50 -> 25.976608 | N27: =10*(G27-$G$7)/$G$8+50 -> 23.217054 | O27: =I27*$B$9 -> 77.300668 | P27: =J27*$C$9 -> 29.827362 | Q27: =K27*$D$9 -> 21.974729 | R27: =L27*$E$9 -> 31.698758 | S27: =M27*$F$9 -> 103.90643 | T27: =N27*$G$9 -> 92.868217 | U27: =SUM(O27:T27) -> 357.57617 | V27: =IF(U27=0,"",100+(400*(U27-$U$27)/($U$28-$U$27))) -> 100
A28: EN YÜKSEK | B28: 20 | C28: 10 | D28: 10 | E28: 10 | F28: 20 | G28: 20 | H28: =SUM(B28:G28) -> 90 | I28: =10*(B28-$B$7)/$B$8+50 -> 77.973274 | J28: =10*(C28-$C$7)/$C$8+50 -> 70 | K28: =10*(D28-$D$7)/$D$8+50 -> 66.498195 | L28: =10*(E28-$E$7)/$E$8+50 -> 73.10559 | M28: =10*(F28-$F$7)/$F$8+50 -> 101.02339 | N28: =10*(G28-$G$7)/$G$8+50 -> 73.604651 | O28: =I28*$B$9 -> 311.8931 | P28: =J28*$C$9 -> 70 | Q28: =K28*$D$9 -> 66.498195 | R28: =L28*$E$9 -> 73.10559 | S28: =M28*$F$9 -> 404.09357 | T28: =N28*$G$9 -> 294.4186 | U28: =SUM(O28:T28) -> 1220.0091 | V28: =IF(U28=0,"",100+(400*(U28-$U$27)/($U$28-$U$27))) -> 500

Sheet BİLGİ
A1: Alt Test | B1: Soru Sayısı
A2: Türkçe | B2: 20
A3: T.C. İnkılap Tarihi ve Atatürkçülük | B3: 10
A4: Din Kültürü ve Ahlak Bilgisi | B4: 10
A5: Yabancı Dil | B5: 10
A6: Matematik | B6: 20
A7: Fen Bilimleri | B7: 20
